BEGIN:VCALENDAR
VERSION:2.0
PRODID:icalendar-ruby
CALSCALE:GREGORIAN
METHOD:PUBLISH
BEGIN:VEVENT
DTSTAMP:20260420T010338Z
UID:c50df1c7-792a-4177-9e97-c0f7304ce226
DTSTART:20200530T163000
DTEND:20200723T170000
DESCRIPTION:<p><strong>The MTN Bushfire festival is going digital with an a
 ll-new immersive virtual experience – and all for a worthy cause!</stron
 g></p><p>Join us on May 30\, 2020 for our online interactive live-cast\, T
 he <a href="https://www.facebook.com/hashtag/keepthefireburning?__eep__=6
 &source=feed_text&epa=HASHTAG&__xts__%5B0%5D=68.ARAAgIM5geQ2llyvY7d0lDopCN
 ekOCAgf5JKsR5Z8CmEFdbnY9MyW7_aqpw8nAMqfhEcnea-GynYAYxUuwaB00P0t3CW7KweUQhi
 lmXqp6Iy8q6X-Ow5lBjpR7yczHo3CHL34Zoeq5thNwJfZE8emVkxwkHwCs-J2frXSYeiXmgMXi
 IwZgVN7LhQKVU_nOHm8V0p-aL7qJz0nXNWjql-vd0C3-OpJ1AWsX9nf0Yp15L-GXHcLojb_wpp
 RNOSNQoCD9zTGprKylTo6Uhjm5JIPPGtPXdYVMGBRhyz_tIaAuS5icuCMxLBSUOEEtO5mvqZyd
 pZK8L1G1pta6vZT-zt0xFo_A&__tn__=%2ANK-R" target="_blank" style="color: rgb
 (54\, 88\, 153)\;">#</a><a href="https://www.facebook.com/hashtag/keepthef
 ireburning?__eep__=6&source=feed_text&epa=HASHTAG&__xts__%5B0%5D=68.ARAAgI
 M5geQ2llyvY7d0lDopCNekOCAgf5JKsR5Z8CmEFdbnY9MyW7_aqpw8nAMqfhEcnea-GynYAYxU
 uwaB00P0t3CW7KweUQhilmXqp6Iy8q6X-Ow5lBjpR7yczHo3CHL34Zoeq5thNwJfZE8emVkxwk
 HwCs-J2frXSYeiXmgMXiIwZgVN7LhQKVU_nOHm8V0p-aL7qJz0nXNWjql-vd0C3-OpJ1AWsX9n
 f0Yp15L-GXHcLojb_wppRNOSNQoCD9zTGprKylTo6Uhjm5JIPPGtPXdYVMGBRhyz_tIaAuS5ic
 uCMxLBSUOEEtO5mvqZydpZK8L1G1pta6vZT-zt0xFo_A&__tn__=%2ANK-R" target="_blan
 k" style="color: rgb(56\, 88\, 152)\;">KeepTheFireBurning</a> Digital Fes
 tival\, powered by <a href="https://www.facebook.com/HowlerApp/?__tn__=K-
 R&eid=ARAcuE3MSHTgmMtwc9U3ZyiuVTI41Ow0tsdjHzhfxzDTIpiTXyyn7Wg1uZeNfIsSkYTR
 7aESUgj-WGSQ&fref=mentions&__xts__%5B0%5D=68.ARAAgIM5geQ2llyvY7d0lDopCNekO
 CAgf5JKsR5Z8CmEFdbnY9MyW7_aqpw8nAMqfhEcnea-GynYAYxUuwaB00P0t3CW7KweUQhilmX
 qp6Iy8q6X-Ow5lBjpR7yczHo3CHL34Zoeq5thNwJfZE8emVkxwkHwCs-J2frXSYeiXmgMXiIwZ
 gVN7LhQKVU_nOHm8V0p-aL7qJz0nXNWjql-vd0C3-OpJ1AWsX9nf0Yp15L-GXHcLojb_wppRNO
 SNQoCD9zTGprKylTo6Uhjm5JIPPGtPXdYVMGBRhyz_tIaAuS5icuCMxLBSUOEEtO5mvqZydpZK
 8L1G1pta6vZT-zt0xFo_A" target="_blank" style="color: rgb(56\, 88\, 152)\;"
 >Howler</a>.</p><p>Expect electrifying performances from some of the fines
 t African & international artists. With Howler’s cutting-edge technology
 \, you’ll be able to share your creativity in open mic sessions\, partic
 ipate in engaging discussions\, and meet fellow Fire Starters from across 
 the globe\, in our exciting themed Zoom rooms!</p><p><a href="https://www.
 facebook.com/hashtag/bringyourfire?__eep__=6&source=feed_text&epa=HASHTAG&
 __xts__%5B0%5D=68.ARAAgIM5geQ2llyvY7d0lDopCNekOCAgf5JKsR5Z8CmEFdbnY9MyW7_a
 qpw8nAMqfhEcnea-GynYAYxUuwaB00P0t3CW7KweUQhilmXqp6Iy8q6X-Ow5lBjpR7yczHo3CH
 L34Zoeq5thNwJfZE8emVkxwkHwCs-J2frXSYeiXmgMXiIwZgVN7LhQKVU_nOHm8V0p-aL7qJz0
 nXNWjql-vd0C3-OpJ1AWsX9nf0Yp15L-GXHcLojb_wppRNOSNQoCD9zTGprKylTo6Uhjm5JIPP
 GtPXdYVMGBRhyz_tIaAuS5icuCMxLBSUOEEtO5mvqZydpZK8L1G1pta6vZT-zt0xFo_A&__tn_
 _=%2ANK-R" target="_blank" style="color: rgb(54\, 88\, 153)\;">#</a><a hre
 f="https://www.facebook.com/hashtag/bringyourfire?__eep__=6&source=feed_te
 xt&epa=HASHTAG&__xts__%5B0%5D=68.ARAAgIM5geQ2llyvY7d0lDopCNekOCAgf5JKsR5Z8
 CmEFdbnY9MyW7_aqpw8nAMqfhEcnea-GynYAYxUuwaB00P0t3CW7KweUQhilmXqp6Iy8q6X-Ow
 5lBjpR7yczHo3CHL34Zoeq5thNwJfZE8emVkxwkHwCs-J2frXSYeiXmgMXiIwZgVN7LhQKVU_n
 OHm8V0p-aL7qJz0nXNWjql-vd0C3-OpJ1AWsX9nf0Yp15L-GXHcLojb_wppRNOSNQoCD9zTGpr
 KylTo6Uhjm5JIPPGtPXdYVMGBRhyz_tIaAuS5icuCMxLBSUOEEtO5mvqZydpZK8L1G1pta6vZT
 -zt0xFo_A&__tn__=%2ANK-R" target="_blank" style="color: rgb(56\, 88\, 152)
 \;">BRINGYOURFIRE</a> and help us raise funds to support our festival ben
 eficiaries\, <span style="color: rgb(56\, 88\, 152)\;">Young Heroes</span
 > & <span style="color: rgb(56\, 88\, 152)\;">boMake Rural Projects</spa
 n>\, so they can continue their much-needed COVID-19 relief programmes.</p
 ><p>For more info on the <a href="https://www.facebook.com/hashtag/keepth
 efireburning?__eep__=6&source=feed_text&epa=HASHTAG&__xts__%5B0%5D=68.ARAA
 gIM5geQ2llyvY7d0lDopCNekOCAgf5JKsR5Z8CmEFdbnY9MyW7_aqpw8nAMqfhEcnea-GynYAY
 xUuwaB00P0t3CW7KweUQhilmXqp6Iy8q6X-Ow5lBjpR7yczHo3CHL34Zoeq5thNwJfZE8emVkx
 wkHwCs-J2frXSYeiXmgMXiIwZgVN7LhQKVU_nOHm8V0p-aL7qJz0nXNWjql-vd0C3-OpJ1AWsX
 9nf0Yp15L-GXHcLojb_wppRNOSNQoCD9zTGprKylTo6Uhjm5JIPPGtPXdYVMGBRhyz_tIaAuS5
 icuCMxLBSUOEEtO5mvqZydpZK8L1G1pta6vZT-zt0xFo_A&__tn__=%2ANK-R" target="_bl
 ank" style="color: rgb(54\, 88\, 153)\;">#</a><a href="https://www.faceboo
 k.com/hashtag/keepthefireburning?__eep__=6&source=feed_text&epa=HASHTAG&__
 xts__%5B0%5D=68.ARAAgIM5geQ2llyvY7d0lDopCNekOCAgf5JKsR5Z8CmEFdbnY9MyW7_aqp
 w8nAMqfhEcnea-GynYAYxUuwaB00P0t3CW7KweUQhilmXqp6Iy8q6X-Ow5lBjpR7yczHo3CHL3
 4Zoeq5thNwJfZE8emVkxwkHwCs-J2frXSYeiXmgMXiIwZgVN7LhQKVU_nOHm8V0p-aL7qJz0nX
 NWjql-vd0C3-OpJ1AWsX9nf0Yp15L-GXHcLojb_wppRNOSNQoCD9zTGprKylTo6Uhjm5JIPPGt
 PXdYVMGBRhyz_tIaAuS5icuCMxLBSUOEEtO5mvqZydpZK8L1G1pta6vZT-zt0xFo_A&__tn__=
 %2ANK-R" target="_blank" style="color: rgb(56\, 88\, 152)\;">KeepTheFireBu
 rning</a> Live Experience\, visit: <a href="https://bit.ly/KeepTheFireBur
 ningLive?fbclid=IwAR0RDbKce1gLp9GUXDYNOImbwOXx6V_bieImOYxMwYmfA3IJ0r3cuDsn
 Mt8" target="_blank" style="color: rgb(56\, 88\, 152)\;">https://bit.ly/Ke
 epTheFireBurningLive</a></p><p>Stay tuned to our social media platforms @M
 TNBushfire for our full line-up of artists.</p><p>For more information on 
 our festival beneficiaries\, visit <a href="https://l.facebook.com/l.php?u
 =http%3A%2F%2Fwww.bomake.org%2F%3Ffbclid%3DIwAR0E3K_1Kre0XmkEYQDovbuIN5KDI
 vWt6z7hTdKuSDM-jv6oBLo05iVEYAk&h=AT127zWug1yGz85f60-GyydHp4r8EZ7aaSJqRMapY
 alGExTEtQ_WHc5kXZd6ZHEZZLt9Uvas7sn6Op8u4vfCtwuE8ls1BPwL7J9EB4toKDLXjquutuK
 kihKc0FbvrVVtZTckCWOvDSWqpW4-CJNKzY_OuBz0sjnvqgRzjeldZTNoWWf_Wbp-SquHNhLX2
 AmKrrUp1fmVibZtEPtjZ5ysVLzLwn1pFTcHjS3s3Dt9LspSfGAkQxCWmcgDw_16tBZzsceYEd8
 akw-UUVwH2IPA_XwNXKkN7OMzvbWZVvFjJkjWoVnDZk656CgYh6Szw-zJ677LV3xv-OqMp0aej
 dQPihnPN3sbI9_HA9R0sQ8FtRm6ACTiiGefQ7sLO9LVyupm_eNiyFLSwpc5To5vSSKrrcaDXat
 XPFXpmqnBgcjbA_vbM-vVYDATPUvK1xbF-nG2f-9RdbyeyhNunfnkOWHxt340vPck7-62-v-mT
 TWyvf68dLAA3B-MjSVL82e_ZzmmA9OMepqgf8iKlRP9MziZidzPVIjLivjZKEMsprPdN1aaM3j
 Mkqcj8YD-kxRj8XJoz8kw-1paTZANa_zJW_yfBWFFXhuyP5Ug3pNI56k-DujCSFoFdryXLmz5p
 i5kSC7ZV6GREMej" target="_blank" style="color: rgb(56\, 88\, 152)\;">www.b
 omake.org</a> and <a href="https://l.facebook.com/l.php?u=http%3A%2F%2Fww
 w.youngheroes.org.sz%2F%3Ffbclid%3DIwAR3oeotCEoBqn2tRGdMjW8zstrHb06QmyHPya
 -5KLt2xKI-IMKAtdcJz27w&h=AT1Nh7UbWVbs03W3aty-JCN7sNCXSYBBgKhyRsuDEPfghKISI
 M4YhYsQDstXQSlKYVK35WlNb_lWxe01y9XpFhXtzDfcHCMnws6pGIiw5Kzla24MNDekWOTWpA5
 b6NzKHuCGdKPrQ8AasCShGISVf6qhZGJi-4X6_4XtIa6vqzH2vyPLNkjcmiAekNIuGY3jlEQmd
 Dd1wd1BzfigZTzJPyHe0-cMpvgHdkc-hjhI6Uk8yhRjwVMFaiTkJ5G4isku9OTGiR9a5oQZdd6
 -q6A2MBtyBVk4yIcDzYIzkKUf6SZ5ms3L9JaTFRaN2yt9PhsXuzUnJFDEt9GGbnfIBwxOtSc8T
 OXrWehT8ydLpjBrPuVHuDFIOz34qAbMQ29kjchVNNRf26TsV7L558kqobdKG4LxAOidzQe-HzB
 R5vNy10lEItJ8DQRVvfvNKWy7SVv7_47tMIEftsEvsOSIiFt6Q53XBcpnhp98fDDebXxHqyfSi
 0sRiy_Y26SXzdeMHdvkg26z2laZ2IpK9SclKASbG6fnxXX3GUtwxWi-BZtFX3TFFSGLQRkyA4P
 Iy2xRVykN9ObovUXmGos7v74e3biZqfHhZy5pvPnRAt-Pq9iVC-fA8YrAgLjZ-ZAObcZAYX6Ak
 fK4LzUp" target="_blank" style="color: rgb(56\, 88\, 152)\;">www.younghero
 es.org.sz</a></p><p><a href="#KEEPTHEFIREBURNING" target="_blank" style="c
 olor: rgb(54\, 88\, 153)\;"><strong>#</strong></a><a href="#KEEPTHEFIREBUR
 NING" target="_blank" style="color: rgb(56\, 88\, 152)\;"><strong>KEEPTHEF
 IREBURNING</strong></a></p><p><a href="#SHAREYOURFIRE" target="_blank" sty
 le="background-color: rgb(252\, 252\, 252)\; color: rgb(54\, 88\, 153)\;">
 <strong>#</strong></a><a href="#SHAREYOURFIRE" target="_blank" style="back
 ground-color: rgb(252\, 252\, 252)\; color: rgb(56\, 88\, 152)\;"><strong>
 SHAREYOURFIRE</strong></a></p><p><a href="#STAYATHOME" target="_blank" sty
 le="background-color: rgb(252\, 252\, 252)\; color: rgb(54\, 88\, 153)\;">
 <strong>#</strong></a><a href="#STAYATHOME" target="_blank" style="backgro
 und-color: rgb(252\, 252\, 252)\; color: rgb(56\, 88\, 152)\;"><strong>S</
 strong></a><a href="#STAYATHOME" target="_blank" style="color: rgb(56\, 88
 \, 152)\;"><strong>TAYATHOME</strong></a></p><p><a href="#STAYSAFE" target
 ="_blank" style="background-color: rgb(252\, 252\, 252)\; color: rgb(54\, 
 88\, 153)\;"><strong>#</strong></a><a href="#STAYSAFE" target="_blank" sty
 le="background-color: rgb(252\, 252\, 252)\; color: rgb(56\, 88\, 152)\;">
 <strong>STAYSAFE</strong></a></p>
SUMMARY:MTN Bushfire #KeepTheFireBurning Digital Festival
URL;VALUE=URI:https://mtnbushfire.howler.co.za/keepthefireburning
END:VEVENT
END:VCALENDAR
