BEGIN:VCALENDAR
VERSION:2.0
PRODID:icalendar-ruby
CALSCALE:GREGORIAN
METHOD:PUBLISH
BEGIN:VEVENT
DTSTAMP:20260422T050259Z
UID:40e62655-1abf-4ba3-8bee-f432f2889f38
DTSTART:20250530T160000
DTEND:20250601T200000
DESCRIPTION:
LOCATION:MALANDELA'S FARM. PO BOX 93 MALKERNS\,M204\, ESWATINI
SUMMARY:MTN Bushfire 2025
URL;VALUE=URI:https://mtnbushfire.howler.co.za/bushfire2025
END:VEVENT
END:VCALENDAR
