BEGIN:VCALENDAR
VERSION:2.0
PRODID:icalendar-ruby
CALSCALE:GREGORIAN
METHOD:PUBLISH
BEGIN:VEVENT
DTSTAMP:20260422T101718Z
UID:5971f40d-e87c-4887-a5e8-58b8a84382f2
DTSTART:20240531T160000
DTEND:20240602T200000
DESCRIPTION:<p>Globally infused\, authentically African and proudly Eswatin
 i\, MTN Bushfire is one of Africa’s largest multicultural gatherings\, i
 lluminting the transformational power of the arts through our call to acti
 on for positive social and environmental change\, #BRINGYOURFIRE. A divers
 e\, inclusive and family-friendly music and arts festival set in a fantasy
 -scape of the imagination\, MTN Bushfire takes place in the beautiful farm
 land and mountains of the Malkerns Valley. Every year\, we welcome Fire St
 arters from over 60 countries for an energising and uplifting weekend\, wi
 th an eclectic programme featuring some of the finest musical and artistic
  talents from across Africa and around the globe.</p>
LOCATION:MALANDELA'S FARM. PO BOX 93 MALKERNS\,M204\, ESWATINI
SUMMARY:MTN Bushfire 2024
URL;VALUE=URI:https://mtnbushfire.howler.co.za/bushfire2024
END:VEVENT
END:VCALENDAR
